BEGIN:VCALENDAR
VERSION:2.0
PRODID:-//Q.Learning - ECPv6.5.1.2//NONSGML v1.0//EN
CALSCALE:GREGORIAN
METHOD:PUBLISH
X-WR-CALNAME:Q.Learning
X-ORIGINAL-URL:https://qlearning.com
X-WR-CALDESC:Events for Q.Learning
REFRESH-INTERVAL;VALUE=DURATION:PT1H
X-Robots-Tag:noindex
X-PUBLISHED-TTL:PT1H
BEGIN:VTIMEZONE
TZID:America/Toronto
BEGIN:DAYLIGHT
TZOFFSETFROM:-0500
TZOFFSETTO:-0400
TZNAME:EDT
DTSTART:20160313T070000
END:DAYLIGHT
BEGIN:STANDARD
TZOFFSETFROM:-0400
TZOFFSETTO:-0500
TZNAME:EST
DTSTART:20161106T060000
END:STANDARD
TZID:Europe/London
BEGIN:DAYLIGHT
TZOFFSETFROM:+0000
TZOFFSETTO:+0100
TZNAME:BST
DTSTART:20160327T010000
END:DAYLIGHT
BEGIN:STANDARD
TZOFFSETFROM:+0100
TZOFFSETTO:+0000
TZNAME:GMT
DTSTART:20161030T010000
END:STANDARD
END:VTIMEZONE
BEGIN:VEVENT
DTSTART;TZID=America/Toronto:20160715T133000
DTEND;TZID=America/Toronto:20160715T140000
DTSTAMP:20260420T211240
CREATED:20160701T090025Z
LAST-MODIFIED:20160701T090206Z
UID:12812-1468589400-1468591200@qlearning.com
SUMMARY:Transformational Leadership Part 2
DESCRIPTION:Leadership is a calling. Events or situations exist or emerge that call to someone to exercise leadership. You can duck or hide\, but the event or situation does not disappear. The call still goes out.\nEach event or situation is different. The courage required of the entrepreneur to risk capital on a bold new venture is different to the courage required to transform a legacy business. The determination needed to develop and sustain a culture of continuous improvement is different to the determination needed to work through a crisis. What is it we ask of leaders? Three things: \nRecognition\nLeaders need to develop the insight to see\, hear and understand the events and situations that demand leadership. If you do not recognise that an opportunity or threat exists\, then there is nothing more to say or do. It all starts with recognition. \nResponsibility\nLeaders need to have a felt sense of responsibility for transforming events and situations. They need imagination – to see beyond what is\, to what is possible. They must accept that responsibility. \nResponse\nRecognition and responsibility speak to the character of leadership. However\, knowing what the right thing is makes little difference if you do not do it. Leaders need the courage to respond. Moreover\, because leaders often must work through others\, that means influencing people to respond too.
URL:https://qlearning.com/event/transformational-leadership-part-2-2/
LOCATION:Online\, Oxfordshire
CATEGORIES:Webinar
ATTACH;FMTTYPE=image/jpeg:https://qlearning.com/wp-content/uploads/2016/05/event-transformational-leadership.jpg
ORGANIZER;CN="Q.Learning":MAILTO:qguide@qlearning.com
END:VEVENT
BEGIN:VEVENT
DTSTART;TZID=America/Toronto:20160715T083000
DTEND;TZID=America/Toronto:20160715T090000
DTSTAMP:20260420T211240
CREATED:20160701T085827Z
LAST-MODIFIED:20160701T090201Z
UID:12810-1468571400-1468573200@qlearning.com
SUMMARY:Transformational Leadership Part 2
DESCRIPTION:Leadership is a calling. Events or situations exist or emerge that call to someone to exercise leadership. You can duck or hide\, but the event or situation does not disappear. The call still goes out.\nEach event or situation is different. The courage required of the entrepreneur to risk capital on a bold new venture is different to the courage required to transform a legacy business. The determination needed to develop and sustain a culture of continuous improvement is different to the determination needed to work through a crisis. What is it we ask of leaders? Three things: \nRecognition\nLeaders need to develop the insight to see\, hear and understand the events and situations that demand leadership. If you do not recognise that an opportunity or threat exists\, then there is nothing more to say or do. It all starts with recognition. \nResponsibility\nLeaders need to have a felt sense of responsibility for transforming events and situations. They need imagination – to see beyond what is\, to what is possible. They must accept that responsibility. \nResponse\nRecognition and responsibility speak to the character of leadership. However\, knowing what the right thing is makes little difference if you do not do it. Leaders need the courage to respond. Moreover\, because leaders often must work through others\, that means influencing people to respond too.
URL:https://qlearning.com/event/transformational-leadership-part-2/
LOCATION:Online\, Oxfordshire
CATEGORIES:Webinar
ATTACH;FMTTYPE=image/jpeg:https://qlearning.com/wp-content/uploads/2016/05/event-transformational-leadership.jpg
ORGANIZER;CN="Q.Learning":MAILTO:qguide@qlearning.com
END:VEVENT
BEGIN:VEVENT
DTSTART;TZID=America/Toronto:20160701T133000
DTEND;TZID=America/Toronto:20160701T140000
DTSTAMP:20260420T211240
CREATED:20160701T085924Z
LAST-MODIFIED:20160701T090943Z
UID:12811-1467379800-1467381600@qlearning.com
SUMMARY:Transformational Leadership Part 1
DESCRIPTION:Leadership is a calling. Events or situations exist or emerge that call to someone to exercise leadership. You can duck or hide\, but the event or situation does not disappear. The call still goes out.\nEach event or situation is different. The courage required of the entrepreneur to risk capital on a bold new venture is different to the courage required to transform a legacy business. The determination needed to develop and sustain a culture of continuous improvement is different to the determination needed to work through a crisis. What is it we ask of leaders? Three things: \nRecognition\nLeaders need to develop the insight to see\, hear and understand the events and situations that demand leadership. If you do not recognise that an opportunity or threat exists\, then there is nothing more to say or do. It all starts with recognition. \nResponsibility\nLeaders need to have a felt sense of responsibility for transforming events and situations. They need imagination – to see beyond what is\, to what is possible. They must accept that responsibility. \nResponse\nRecognition and responsibility speak to the character of leadership. However\, knowing what the right thing is makes little difference if you do not do it. Leaders need the courage to respond. Moreover\, because leaders often must work through others\, that means influencing people to respond too.
URL:https://qlearning.com/event/transformational-leadership-part-1/
LOCATION:Online\, Oxfordshire
CATEGORIES:Webinar
ATTACH;FMTTYPE=image/jpeg:https://qlearning.com/wp-content/uploads/2016/05/event-transformational-leadership.jpg
ORGANIZER;CN="Q.Learning":MAILTO:qguide@qlearning.com
END:VEVENT
BEGIN:VEVENT
DTSTART;TZID=Europe/London:20160513T083000
DTEND;TZID=Europe/London:20160513T090000
DTSTAMP:20260420T211240
CREATED:20160427T092046Z
LAST-MODIFIED:20160701T090217Z
UID:12457-1463128200-1463130000@qlearning.com
SUMMARY:Empathy
DESCRIPTION:You never really understand another person until you consider things from his point of view – until you climb inside of his skin and walk around in it. Harper Lee\, ‘To Kill a Mockingbird’ \nThe latest neuroscience research shows that 98% of human beings have the ability to empathise wired in their brains. (Exceptions to this rule include psychopaths.) However\, many of us fail to tap into the full potential of our empathy capabilities\, according to an article by the BBC (see page 8). In this Q. Guide we explore empathy – and the absence of it – and look at ways in which we can improve our use of it in everyday situations and as a manager or leader. We are not required to like or agree with how other people see things. Instead\, we can all do better appreciating why and how others see situations\, the world or us. Before reading further\, look at these two pictures. Which word best describes what the person is thinking or feeling? (See ‘Links & ideas’ to find out more).
URL:https://qlearning.com/event/empathy/
LOCATION:Online\, Oxfordshire
CATEGORIES:Webinar
ATTACH;FMTTYPE=image/jpeg:https://qlearning.com/wp-content/uploads/2016/04/empathy.jpg
ORGANIZER;CN="Q.Learning":MAILTO:qguide@qlearning.com
END:VEVENT
BEGIN:VEVENT
DTSTART;TZID=America/Toronto:20160422T083000
DTEND;TZID=America/Toronto:20160422T090000
DTSTAMP:20260420T211240
CREATED:20160316T094344Z
LAST-MODIFIED:20160427T092536Z
UID:12226-1461313800-1461315600@qlearning.com
SUMMARY:Change
DESCRIPTION:Few subjects generate more discussion or attract more attention than change. Myths\, muddles and misconceptions abound. Failure to change stories appear to dominate – successes seem harder to achieve. \nMuch of what happens with change is difficult to predict or control. However well designed\, the law of unintended consequences\, chaos theory and complexity often triumph over the bestlaid plans of mice and men. Therefore\, the aim of this QGuide is modest – to offer hope we can be a little more rigorous in our understanding of change; a little more precise in defining and describing it; and a little more effective in how we manage through it. \nA final thought. If you could not use the word ‘change’ to describe what is happening (or what you want to make happen) what word(s) would you use instead? Change has become over-used\, losing its shape and meaning. Finding better ways to talk about it will give you a fresher\, cleaner perspective.
URL:https://qlearning.com/event/change/
LOCATION:Online\, Oxfordshire
CATEGORIES:Webinar
ATTACH;FMTTYPE=image/jpeg:https://qlearning.com/wp-content/uploads/2016/03/event-change.jpg
ORGANIZER;CN="Q.Learning":MAILTO:qguide@qlearning.com
END:VEVENT
BEGIN:VEVENT
DTSTART;TZID=America/Toronto:20160308T083000
DTEND;TZID=America/Toronto:20160308T090000
DTSTAMP:20260420T211240
CREATED:20160226T123143Z
LAST-MODIFIED:20160427T092611Z
UID:11976-1457425800-1457427600@qlearning.com
SUMMARY:Coaching over Coffee
DESCRIPTION:
URL:https://qlearning.com/event/coaching-over-coffee/
LOCATION:Online\, Oxfordshire
CATEGORIES:Webinar
ATTACH;FMTTYPE=image/jpeg:https://qlearning.com/wp-content/uploads/2016/02/coachingovercoffee.jpg
ORGANIZER;CN="Q.Learning":MAILTO:qguide@qlearning.com
END:VEVENT
BEGIN:VEVENT
DTSTART;TZID=Europe/London:20160202T083000
DTEND;TZID=Europe/London:20160202T090000
DTSTAMP:20260420T211240
CREATED:20160315T131044Z
LAST-MODIFIED:20160427T092629Z
UID:11904-1454401800-1454403600@qlearning.com
SUMMARY:Conflict Management
DESCRIPTION:We find two common types of conflict in organisations\, both relate to teams. The first is conflict within teams – for example\, when two teams have merged into one\, with issues of identity or focus unresolved. The second is conflict between teams – for example where there are inter-dependencies around a core process. \nThree things matter in achieving a resolution. Firstly\, awareness – everyone involved needs to understand that there is a problem\, its impact\, and the consequences of not resolving it.  Secondly\, there needs to be a safe space where people can air their views and listen to different perspectives. Thirdly\, there must be a rigorous process or model to enable an effective resolution. \nCoaching teams to create the right environment and work through a process is a core Q. Learning capability. Team conflicts are never easy\, and sometimes there is a lot of baggage to account for! But in the end\, progress and resolution is always possible!
URL:https://qlearning.com/event/conflict-management/
LOCATION:Online\, Oxfordshire
CATEGORIES:Webinar
ATTACH;FMTTYPE=image/jpeg:https://qlearning.com/wp-content/uploads/2016/02/conflictmanagement.jpg
ORGANIZER;CN="Q.Learning":MAILTO:qguide@qlearning.com
END:VEVENT
END:VCALENDAR